BEGIN:VCALENDAR
VERSION:2.0
PRODID:-//Feuerwehrkapelle Jöhlingen  - ECPv6.15.18//NONSGML v1.0//EN
CALSCALE:GREGORIAN
METHOD:PUBLISH
X-WR-CALNAME:Feuerwehrkapelle Jöhlingen 
X-ORIGINAL-URL:https://www.fwk-joehlingen.de
X-WR-CALDESC:Veranstaltungen für Feuerwehrkapelle Jöhlingen 
REFRESH-INTERVAL;VALUE=DURATION:PT1H
X-Robots-Tag:noindex
X-PUBLISHED-TTL:PT1H
BEGIN:VTIMEZONE
TZID:Europe/Berlin
BEGIN:DAYLIGHT
TZOFFSETFROM:+0100
TZOFFSETTO:+0200
TZNAME:CEST
DTSTART:20250330T010000
END:DAYLIGHT
BEGIN:STANDARD
TZOFFSETFROM:+0200
TZOFFSETTO:+0100
TZNAME:CET
DTSTART:20251026T010000
END:STANDARD
BEGIN:DAYLIGHT
TZOFFSETFROM:+0100
TZOFFSETTO:+0200
TZNAME:CEST
DTSTART:20260329T010000
END:DAYLIGHT
BEGIN:STANDARD
TZOFFSETFROM:+0200
TZOFFSETTO:+0100
TZNAME:CET
DTSTART:20261025T010000
END:STANDARD
BEGIN:DAYLIGHT
TZOFFSETFROM:+0100
TZOFFSETTO:+0200
TZNAME:CEST
DTSTART:20270328T010000
END:DAYLIGHT
BEGIN:STANDARD
TZOFFSETFROM:+0200
TZOFFSETTO:+0100
TZNAME:CET
DTSTART:20271031T010000
END:STANDARD
END:VTIMEZONE
BEGIN:VEVENT
DTSTART;TZID=Europe/Berlin:20260424T183000
DTEND;TZID=Europe/Berlin:20260424T193000
DTSTAMP:20260421T154228
CREATED:20260302T181325Z
LAST-MODIFIED:20260302T181325Z
UID:1707-1777055400-1777059000@www.fwk-joehlingen.de
SUMMARY:Marschprobe Jugendorchester
DESCRIPTION:
URL:https://www.fwk-joehlingen.de/termine/marschprobe-jugendorchester/
END:VEVENT
BEGIN:VEVENT
DTSTART;TZID=Europe/Berlin:20260430T170000
DTEND;TZID=Europe/Berlin:20260430T190000
DTSTAMP:20260421T154228
CREATED:20260302T181403Z
LAST-MODIFIED:20260302T181403Z
UID:1709-1777568400-1777575600@www.fwk-joehlingen.de
SUMMARY:Maibaumstellen
DESCRIPTION:
URL:https://www.fwk-joehlingen.de/termine/maibaumstellen/
LOCATION:Kirchplatz Jöhlingen
END:VEVENT
BEGIN:VEVENT
DTSTART;TZID=Europe/Berlin:20260430T200000
DTEND;TZID=Europe/Berlin:20260430T220000
DTSTAMP:20260421T154228
CREATED:20260302T181455Z
LAST-MODIFIED:20260325T151750Z
UID:1711-1777579200-1777586400@www.fwk-joehlingen.de
SUMMARY:Auftritt MV Wössingen
DESCRIPTION:Großes Blasorchester
URL:https://www.fwk-joehlingen.de/termine/auftritt-mv-woessingen/
LOCATION:Wössingen
END:VEVENT
BEGIN:VEVENT
DTSTART;TZID=Europe/Berlin:20260501T113000
DTEND;TZID=Europe/Berlin:20260501T130000
DTSTAMP:20260421T154228
CREATED:20260325T152417Z
LAST-MODIFIED:20260325T152417Z
UID:1724-1777635000-1777640400@www.fwk-joehlingen.de
SUMMARY:Auftritt MV "Harmonie" Bauerbach eV
DESCRIPTION:Großes Blasorchester
URL:https://www.fwk-joehlingen.de/termine/auftritt-mv-harmonie-bauerbach-ev/
LOCATION:Bauerbach
END:VEVENT
BEGIN:VEVENT
DTSTART;TZID=Europe/Berlin:20260508T133000
DTEND;TZID=Europe/Berlin:20260508T150000
DTSTAMP:20260421T154228
CREATED:20260325T152621Z
LAST-MODIFIED:20260325T152621Z
UID:1727-1778247000-1778252400@www.fwk-joehlingen.de
SUMMARY:Wertungsspiel der Jugend
DESCRIPTION:Juniorexpress und Jugendorchester
URL:https://www.fwk-joehlingen.de/termine/wertungsspiel-der-jugend/
END:VEVENT
BEGIN:VEVENT
DTSTART;TZID=Europe/Berlin:20260509T203000
DTEND;TZID=Europe/Berlin:20260509T223000
DTSTAMP:20260421T154228
CREATED:20260325T152740Z
LAST-MODIFIED:20260325T152740Z
UID:1729-1778358600-1778365800@www.fwk-joehlingen.de
SUMMARY:Auftritt MV Frohsinn Wöschbach
DESCRIPTION:
URL:https://www.fwk-joehlingen.de/termine/auftritt-mv-frohsinn-woeschbach/
END:VEVENT
BEGIN:VEVENT
DTSTART;TZID=Europe/Berlin:20260514T130000
DTEND;TZID=Europe/Berlin:20260514T150000
DTSTAMP:20260421T154228
CREATED:20260325T152911Z
LAST-MODIFIED:20260325T152911Z
UID:1731-1778763600-1778770800@www.fwk-joehlingen.de
SUMMARY:Auftritt Vatertagsfest MV Berghausen
DESCRIPTION:
URL:https://www.fwk-joehlingen.de/termine/auftritt-vatertagsfest-mv-berghausen/
END:VEVENT
BEGIN:VEVENT
DTSTART;TZID=Europe/Berlin:20260522T173000
DTEND;TZID=Europe/Berlin:20260522T213000
DTSTAMP:20260421T154228
CREATED:20260302T181554Z
LAST-MODIFIED:20260302T181749Z
UID:1713-1779471000-1779485400@www.fwk-joehlingen.de
SUMMARY:Jugendvollversammlung
DESCRIPTION:
URL:https://www.fwk-joehlingen.de/termine/jugendvollversammlung/
LOCATION:Feuerwehrhaus Jöhlingen
END:VEVENT
BEGIN:VEVENT
DTSTART;TZID=Europe/Berlin:20260607T083000
DTEND;TZID=Europe/Berlin:20260607T113000
DTSTAMP:20260421T154228
CREATED:20260302T181652Z
LAST-MODIFIED:20260302T181652Z
UID:1715-1780821000-1780831800@www.fwk-joehlingen.de
SUMMARY:Fronleichnam
DESCRIPTION:Kirche und Prozession / Großes Blasorchester
URL:https://www.fwk-joehlingen.de/termine/fronleichnam/
LOCATION:Kath. Kirche St. Martin\, Jöhlingen
END:VEVENT
BEGIN:VEVENT
DTSTART;TZID=Europe/Berlin:20260614T113000
DTEND;TZID=Europe/Berlin:20260614T133000
DTSTAMP:20260421T154228
CREATED:20260325T153033Z
LAST-MODIFIED:20260325T153033Z
UID:1733-1781436600-1781443800@www.fwk-joehlingen.de
SUMMARY:Auftritt Dorffest Söllingen - MV Söllingen
DESCRIPTION:
URL:https://www.fwk-joehlingen.de/termine/auftritt-dorffest-soellingen-mv-soellingen/
END:VEVENT
END:VCALENDAR